BEGIN:VCALENDAR
VERSION:2.0
CALSCALE:GREGORIAN
PRODID:adamgibbons/ics
METHOD:PUBLISH
X-PUBLISHED-TTL:PT1H
BEGIN:VEVENT
UID:353@event.cologne
SUMMARY:Comic Lounge 61
DTSTAMP:20260420T181530Z
DTSTART:20260326T154500Z
DTEND:20260326T174500Z
DESCRIPTION:Innenstadt\, EintrittFrei\n\nHeutiges Thema: Cliffhanger! Coach
	ing für angehende Comiczeichner*innen ab 9\nJahren mit Leo Leowald in der 
	Stadtteilbibliothek Haus Balchem.\n\n16:45 bis 18:45 Uhr\n\nDie Teilnahme 
	ist kostenlos.
URL:https://event.cologne/event/comic-lounge-61
GEO:50.9226;6.95897
LOCATION:Stadtteilbibliothek Haus Balchem - Severinstraße 15\, 50678 Köln
STATUS:CONFIRMED
CATEGORIES:EintrittFrei,Innenstadt
X-ALT-DESC;FMTTYPE=text/html:<p><strong>Innenstadt, EintrittFrei</strong></
	p><p>Heutiges Thema: Cliffhanger! Coaching für angehende Comiczeichner*inn
	en ab 9 Jahren mit Leo Leowald in der Stadtteilbibliothek Haus Balchem.</p
	><p>16:45 bis 18:45 Uhr</p><p>Die Teilnahme ist kostenlos.</p>
BEGIN:VALARM
ACTION:DISPLAY
DESCRIPTION:Comic Lounge 61
TRIGGER:-PT1H
END:VALARM
END:VEVENT
END:VCALENDAR
