BEGIN:VCALENDAR
VERSION:2.0
CALSCALE:GREGORIAN
PRODID:adamgibbons/ics
METHOD:PUBLISH
X-PUBLISHED-TTL:PT1H
BEGIN:VEVENT
UID:61@event.cologne
SUMMARY:Claudia Jung
DTSTAMP:20260420T181542Z
DTSTART:20260920T150000Z
DTEND:20260920T150000Z
DESCRIPTION:Verschoben\nDie Veranstaltung wurde verschoben - neuer Termin i
	st der 20.09.2026.\nDie Künstlerin verschiebt aus persönlichen Gründen all
	e Auftrittstermine bis\neinschließlich August. Nach dem plötzlichen Tod ih
	res Mannes zieht sie sich\nvorübergehend aus der Öffentlichkeit zurück. Ab
	 September plant sie ihre\nRückkehr auf die Bühne.\nDie gekauften Plätze b
	leiben wie gebucht erhalten. Die Karten behalten Ihre\nGültigkeit\, es ist
	 kein Kartenumtausch notwendig.
URL:https://event.cologne/event/claudia-jung
GEO:50.9459;6.97042
LOCATION:Tanzbrunnen - Rheinparkweg 1\, 50679 Köln
STATUS:CONFIRMED
CATEGORIES:
X-ALT-DESC;FMTTYPE=text/html:<p>Verschoben<br>Die Veranstaltung wurde versc
	hoben - neuer Termin ist der 20.09.2026.<br>Die Künstlerin verschiebt aus 
	persönlichen Gründen alle Auftrittstermine bis einschließlich August. Nach
	 dem plötzlichen Tod ihres Mannes zieht sie sich vorübergehend aus der Öff
	entlichkeit zurück. Ab September plant sie ihre Rückkehr auf die Bühne.<br
	>Die gekauften Plätze bleiben wie gebucht erhalten. Die Karten behalten Ih
	re Gültigkeit, es ist kein Kartenumtausch notwendig.</p>
BEGIN:VALARM
ACTION:DISPLAY
DESCRIPTION:Claudia Jung
TRIGGER:-PT1H
END:VALARM
END:VEVENT
END:VCALENDAR
