BEGIN:VCALENDAR
VERSION:2.0
CALSCALE:GREGORIAN
PRODID:adamgibbons/ics
METHOD:PUBLISH
X-PUBLISHED-TTL:PT1H
BEGIN:VEVENT
UID:638@event.cologne
SUMMARY:Chor-Konzert Curiosity – We wanna know what love is
DTSTAMP:20260420T182345Z
DTSTART:20260425T170000Z
DTEND:20260425T183000Z
DESCRIPTION:Nippes\n\nAus dem Wunsch heraus\, zusammen zu kommen und einen 
	Ort: für Gemeinschaft\nentstehen zu lassen\, hat der Kölner Chor Nebula da
	s Community-Chorprojekt ins\nLeben gerufen.\n\n19 bis 20:30 Uhr\n\n13\,50 
	Euro\, ermäßigt 8\,50 Euro
URL:https://event.cologne/event/chor-konzert-curiosity-we-wanna-know-what-l
	ove-is
GEO:50.9686;6.94871
LOCATION:Bürgerzentrum Nippes - Altenberger Hof - Mauenheimer Straße 92\, 5
	0733 Köln
STATUS:CONFIRMED
CATEGORIES:Konzert,Nippes
X-ALT-DESC;FMTTYPE=text/html:<p><strong>Nippes</strong></p><p>Aus dem Wunsc
	h heraus, zusammen zu kommen und einen <strong>Ort:</strong> für Gemeinsch
	aft entstehen zu lassen, hat der Kölner Chor Nebula das Community-Chorproj
	ekt ins Leben gerufen.</p><p>19 bis 20:30 Uhr</p><p>13,50 Euro, ermäßigt 8
	,50 Euro</p>
BEGIN:VALARM
ACTION:DISPLAY
DESCRIPTION:Chor-Konzert Curiosity – We wanna know what love is
TRIGGER:-PT1H
END:VALARM
END:VEVENT
END:VCALENDAR
