BEGIN:VCALENDAR
VERSION:2.0
CALSCALE:GREGORIAN
PRODID:adamgibbons/ics
METHOD:PUBLISH
X-PUBLISHED-TTL:PT1H
BEGIN:VEVENT
UID:716@event.cologne
SUMMARY:Chor-Konzert Curiosity – We wanna know what love is
DTSTAMP:20260420T182342Z
DTSTART:20260426T150000Z
DTEND:20260426T163000Z
DESCRIPTION:Aus dem Wunsch heraus\, zusammen zu kommen und einen Ort: für G
	emeinschaft\nentstehen zu lassen\, hat der Kölner Chor Nebula das Communit
	y-Chorprojekt ins\nLeben gerufen.\n\n17 bis 18:30 Uhr\n\n13\,50 Euro\, erm
	äßigt 8\,50 Euro
URL:https://event.cologne/event/chor-konzert-curiosity-we-wanna-know-what-l
	ove-is-1
GEO:50.9686;6.94871
LOCATION:Bürgerzentrum Nippes (Standort Altenberger Hof) - Mauenheimer Stra
	ße 92\, 50733 Köln
STATUS:CONFIRMED
CATEGORIES:Konzert,Nippes
X-ALT-DESC;FMTTYPE=text/html:<p>Aus dem Wunsch heraus, zusammen zu kommen u
	nd einen <strong>Ort:</strong> für Gemeinschaft entstehen zu lassen, hat d
	er Kölner Chor Nebula das Community-Chorprojekt ins Leben gerufen.</p><p>1
	7 bis 18:30 Uhr</p><p>13,50 Euro, ermäßigt 8,50 Euro</p>
BEGIN:VALARM
ACTION:DISPLAY
DESCRIPTION:Chor-Konzert Curiosity – We wanna know what love is
TRIGGER:-PT1H
END:VALARM
END:VEVENT
END:VCALENDAR
