BEGIN:VCALENDAR
VERSION:2.0
CALSCALE:GREGORIAN
PRODID:adamgibbons/ics
METHOD:PUBLISH
X-PUBLISHED-TTL:PT1H
BEGIN:VEVENT
UID:157@event.cologne
SUMMARY:ChatGPT & Co für Neugierige
DTSTAMP:20260420T182101Z
DTSTART:20260415T150000Z
DTEND:20260415T163000Z
DESCRIPTION:Kalk\, EintrittFrei\n\nLernen Sie ChatGPT und Künstliche Intell
	igenz kennen. Im Rahmen der Reihe\nDigitale Werkstatt in der Stadtteilbibl
	iothek Kalk.\n\n17 bis 18:30 Uhr\n\nDie Teilnahme ist kostenlos.
URL:https://event.cologne/event/chatgpt-and-co-fur-neugierige-2
GEO:50.9394;7.00844
LOCATION:Stadtteilbibliothek Kalk - Kalker Hauptstraße 247-273\, 51103 Köln
STATUS:CONFIRMED
CATEGORIES:EintrittFrei,Familie,Kalk
X-ALT-DESC;FMTTYPE=text/html:<p><strong>Kalk, EintrittFrei</strong></p><p>L
	ernen Sie ChatGPT und Künstliche Intelligenz kennen. Im Rahmen der Reihe D
	igitale Werkstatt in der Stadtteilbibliothek Kalk.</p><p>17 bis 18:30 Uhr<
	/p><p>Die Teilnahme ist kostenlos.</p>
BEGIN:VALARM
ACTION:DISPLAY
DESCRIPTION:ChatGPT & Co für Neugierige
TRIGGER:-PT1H
END:VALARM
END:VEVENT
END:VCALENDAR
