BEGIN:VCALENDAR
VERSION:2.0
CALSCALE:GREGORIAN
PRODID:adamgibbons/ics
METHOD:PUBLISH
X-PUBLISHED-TTL:PT1H
BEGIN:VEVENT
UID:155@event.cologne
SUMMARY:ChatGPT & Co für Neugierige
DTSTAMP:20260420T182317Z
DTSTART:20260327T150000Z
DTEND:20260327T163000Z
DESCRIPTION:Lindenthal\, EintrittFrei\n\nLernen Sie ChatGPT und Künstliche 
	Intelligenz kennen. Im Rahmen der Reihe\nDigitale Werkstatt in der Stadtte
	ilbibliothek Sülz.\n\n16 bis 17:30 Uhr\n\nDie Teilnahme ist kostenlos.
URL:https://event.cologne/event/chatgpt-and-co-fur-neugierige-1
GEO:50.9163;6.92592
LOCATION:Stadtteilbibliothek Sülz - Wichterichstraße 1\, 50937 Köln
STATUS:CONFIRMED
CATEGORIES:EintrittFrei,Familie,Lindenthal
X-ALT-DESC;FMTTYPE=text/html:<p><strong>Lindenthal, EintrittFrei</strong></
	p><p>Lernen Sie ChatGPT und Künstliche Intelligenz kennen. Im Rahmen der R
	eihe Digitale Werkstatt in der Stadtteilbibliothek Sülz.</p><p>16 bis 17:3
	0 Uhr</p><p>Die Teilnahme ist kostenlos.</p>
BEGIN:VALARM
ACTION:DISPLAY
DESCRIPTION:ChatGPT & Co für Neugierige
TRIGGER:-PT1H
END:VALARM
END:VEVENT
END:VCALENDAR
