BEGIN:VCALENDAR
VERSION:2.0
CALSCALE:GREGORIAN
PRODID:adamgibbons/ics
METHOD:PUBLISH
X-PUBLISHED-TTL:PT1H
BEGIN:VEVENT
UID:35@event.cologne
SUMMARY:Celeste Barber – Backup Dancer
DTSTAMP:20260420T181527Z
DTSTART:20260410T170000Z
DTEND:20260410T170000Z
DESCRIPTION:Bestuhlt
URL:https://event.cologne/event/celeste-barber-backup-dancer
GEO:50.9459;6.97042
LOCATION:Tanzbrunnen - Rheinparkweg 1\, 50679 Köln
STATUS:CONFIRMED
CATEGORIES:
X-ALT-DESC;FMTTYPE=text/html:<p>Bestuhlt</p>
BEGIN:VALARM
ACTION:DISPLAY
DESCRIPTION:Celeste Barber – Backup Dancer
TRIGGER:-PT1H
END:VALARM
END:VEVENT
END:VCALENDAR
