BEGIN:VCALENDAR
VERSION:2.0
CALSCALE:GREGORIAN
PRODID:adamgibbons/ics
METHOD:PUBLISH
X-PUBLISHED-TTL:PT1H
BEGIN:VEVENT
UID:32@event.cologne
SUMMARY:Buray – 10 Tour
DTSTAMP:20260420T181658Z
DTSTART:20260404T173000Z
DTEND:20260404T173000Z
URL:https://event.cologne/event/buray-10-tour
GEO:50.9459;6.97042
LOCATION:Tanzbrunnen - Rheinparkweg 1\, 50679 Köln
STATUS:CONFIRMED
CATEGORIES:
BEGIN:VALARM
ACTION:DISPLAY
DESCRIPTION:Buray – 10 Tour
TRIGGER:-PT1H
END:VALARM
END:VEVENT
END:VCALENDAR
