BEGIN:VCALENDAR
VERSION:2.0
CALSCALE:GREGORIAN
PRODID:adamgibbons/ics
METHOD:PUBLISH
X-PUBLISHED-TTL:PT1H
BEGIN:VEVENT
UID:282@event.cologne
SUMMARY:Bunte Steine – bunte Geschichten
DTSTAMP:20260420T181703Z
DTSTART:20260409T080000Z
DTEND:20260409T103000Z
DESCRIPTION:Innenstadt\, EintrittFrei\n\nIm diesem kreativen Workshop werde
	n Steine bemalt. Im Rahmen unseres Programms\nMaker Kids in den Osterferie
	n im Interim Zentralbibliothek.\n\n10 bis 12:30 Uhr\n\nDie Teilnahme ist k
	ostenlos.
URL:https://event.cologne/event/bunte-steine-bunte-geschichten
GEO:50.9371;6.95656
LOCATION:Interim Zentralbibliothek - Hohe Straße 68-82\, 50667 Köln
STATUS:CONFIRMED
CATEGORIES:EintrittFrei,Familie,Innenstadt
X-ALT-DESC;FMTTYPE=text/html:<p><strong>Innenstadt, EintrittFrei</strong></
	p><p>Im diesem kreativen Workshop werden Steine bemalt. Im Rahmen unseres 
	Programms Maker Kids in den Osterferien im Interim Zentralbibliothek.</p><
	p>10 bis 12:30 Uhr</p><p>Die Teilnahme ist kostenlos.</p>
BEGIN:VALARM
ACTION:DISPLAY
DESCRIPTION:Bunte Steine – bunte Geschichten
TRIGGER:-PT1H
END:VALARM
END:VEVENT
END:VCALENDAR
