BEGIN:VCALENDAR
VERSION:2.0
CALSCALE:GREGORIAN
PRODID:adamgibbons/ics
METHOD:PUBLISH
X-PUBLISHED-TTL:PT1H
BEGIN:VEVENT
UID:396@event.cologne
SUMMARY:Bücherplausch
DTSTAMP:20260420T181529Z
DTSTART:20260417T140000Z
DTEND:20260417T160000Z
DESCRIPTION:Porz\, EintrittFrei\n\nOffener Treffpunkt rund ums Lesen in der
	 Stadtteilbibliothek Porz.\n\n16 bis 18 Uhr\n\nDie Teilnahme ist kostenlos
	.
URL:https://event.cologne/event/bucherplausch
GEO:50.885;7.05522
LOCATION:Stadtteilbibliothek Porz - Alfred-Moritz-Platz 1\, 51143 Köln
STATUS:CONFIRMED
CATEGORIES:EintrittFrei,Porz
X-ALT-DESC;FMTTYPE=text/html:<p><strong>Porz, EintrittFrei</strong></p><p>O
	ffener Treffpunkt rund ums Lesen in der Stadtteilbibliothek Porz.</p><p>16
	 bis 18 Uhr</p><p>Die Teilnahme ist kostenlos.</p>
BEGIN:VALARM
ACTION:DISPLAY
DESCRIPTION:Bücherplausch
TRIGGER:-PT1H
END:VALARM
END:VEVENT
END:VCALENDAR
