BEGIN:VCALENDAR
VERSION:2.0
CALSCALE:GREGORIAN
PRODID:adamgibbons/ics
METHOD:PUBLISH
X-PUBLISHED-TTL:PT1H
BEGIN:VEVENT
UID:148@event.cologne
SUMMARY:Bücherplausch Spezial
DTSTAMP:20260420T181655Z
DTSTART:20260320T150000Z
DTEND:20260320T170000Z
DESCRIPTION:Porz\, EintrittFrei\n\nOffener Treffpunkt rund ums Lesen in der
	 Stadtteilbibliothek Porz. Heutiges\nThema: Hochspannung – Krimis\, Thrill
	er und mehr\n\n16 bis 18 Uhr\n\nDie Teilnahme ist kostenlos.
URL:https://event.cologne/event/bucherplausch-spezial
GEO:50.885;7.05522
LOCATION:Stadtteilbibliothek Porz - Alfred-Moritz-Platz 1\, 51143 Köln
STATUS:CONFIRMED
CATEGORIES:EintrittFrei,Literatur,Porz
X-ALT-DESC;FMTTYPE=text/html:<p><strong>Porz, EintrittFrei</strong></p><p>O
	ffener Treffpunkt rund ums Lesen in der Stadtteilbibliothek Porz. Heutiges
	 Thema: Hochspannung – Krimis, Thriller und mehr</p><p>16 bis 18 Uhr</p><p
	>Die Teilnahme ist kostenlos.</p>
BEGIN:VALARM
ACTION:DISPLAY
DESCRIPTION:Bücherplausch Spezial
TRIGGER:-PT1H
END:VALARM
END:VEVENT
END:VCALENDAR
