BEGIN:VCALENDAR
VERSION:2.0
CALSCALE:GREGORIAN
PRODID:adamgibbons/ics
METHOD:PUBLISH
X-PUBLISHED-TTL:PT1H
BEGIN:VEVENT
UID:766@event.cologne
SUMMARY:Bücherbabys – die literarische Krabbelgruppe
DTSTAMP:20260423T013502Z
DTSTART:20260508T083000Z
DTEND:20260508T090000Z
DESCRIPTION:Im Zentrum der Bücherbabys steht die Sprach- und Sinnesförderun
	g der Kleinsten –\nin der Stadtteilbibliothek Sülz.\n\n10:30 bis 11 Uhr\n\
	nDie Teilnahme ist kostenlos.
URL:https://event.cologne/event/bucherbabys-die-literarische-krabbelgruppe-
	26
GEO:50.9163;6.92592
LOCATION:Stadtteilbibliothek Sülz - Wichterichstraße 1\, 50937 Köln
STATUS:CONFIRMED
CATEGORIES:EintrittFrei,Lindenthal
X-ALT-DESC;FMTTYPE=text/html:<p>Im Zentrum der Bücherbabys steht die Sprach
	- und Sinnesförderung der Kleinsten – in der Stadtteilbibliothek Sülz.</p>
	<p>10:30 bis 11 Uhr</p><p>Die Teilnahme ist kostenlos.</p>
BEGIN:VALARM
ACTION:DISPLAY
DESCRIPTION:Bücherbabys – die literarische Krabbelgruppe
TRIGGER:-PT1H
END:VALARM
END:VEVENT
END:VCALENDAR
