BEGIN:VCALENDAR
VERSION:2.0
CALSCALE:GREGORIAN
PRODID:adamgibbons/ics
METHOD:PUBLISH
X-PUBLISHED-TTL:PT1H
BEGIN:VEVENT
UID:733@event.cologne
SUMMARY:Bücherbabys – die literarische Krabbelgruppe
DTSTAMP:20260420T182348Z
DTSTART:20260602T090000Z
DTEND:20260602T100000Z
DESCRIPTION:Im Zentrum der Bücherbabys steht die Sprach- und Sinnesförderun
	g der Kleinsten –\nin der Stadtteilbibliothek Haus Balchem.\n\n11 bis 12 U
	hr\n\nDie Teilnahme ist kostenlos.
URL:https://event.cologne/event/bucherbabys-die-literarische-krabbelgruppe-
	25
GEO:50.9226;6.95897
LOCATION:Stadtteilbibliothek Haus Balchem - Severinstraße 15\, 50678 Köln
STATUS:CONFIRMED
CATEGORIES:EintrittFrei,Innenstadt
X-ALT-DESC;FMTTYPE=text/html:<p>Im Zentrum der Bücherbabys steht die Sprach
	- und Sinnesförderung der Kleinsten – in der Stadtteilbibliothek Haus Balc
	hem.</p><p>11 bis 12 Uhr</p><p>Die Teilnahme ist kostenlos.</p>
BEGIN:VALARM
ACTION:DISPLAY
DESCRIPTION:Bücherbabys – die literarische Krabbelgruppe
TRIGGER:-PT1H
END:VALARM
END:VEVENT
END:VCALENDAR
