BEGIN:VCALENDAR
VERSION:2.0
CALSCALE:GREGORIAN
PRODID:adamgibbons/ics
METHOD:PUBLISH
X-PUBLISHED-TTL:PT1H
BEGIN:VEVENT
UID:367@event.cologne
SUMMARY:Bücherbabys – die literarische Krabbelgruppe
DTSTAMP:20260420T182349Z
DTSTART:20260409T090000Z
DTEND:20260409T100000Z
DESCRIPTION:Mülheim\n\nIm Zentrum der Bücherbabys steht die Sprach- und Sin
	nesförderung der Kleinsten –\nin der Stadtteilbibliothek Mülheim.\n\n11 bi
	s 12 Uhr\n\nDer Eintritt ist frei.
URL:https://event.cologne/event/bucherbabys-die-literarische-krabbelgruppe-
	10
GEO:50.961;7.00412
LOCATION:Stadtteilbibliothek Mülheim - Wiener Platz 2a\, 51065 Köln
STATUS:CONFIRMED
CATEGORIES:Mülheim
X-ALT-DESC;FMTTYPE=text/html:<p><strong>Mülheim</strong></p><p>Im Zentrum d
	er Bücherbabys steht die Sprach- und Sinnesförderung der Kleinsten – in de
	r Stadtteilbibliothek Mülheim.</p><p>11 bis 12 Uhr</p><p>Der Eintritt ist 
	frei.</p>
BEGIN:VALARM
ACTION:DISPLAY
DESCRIPTION:Bücherbabys – die literarische Krabbelgruppe
TRIGGER:-PT1H
END:VALARM
END:VEVENT
END:VCALENDAR
