BEGIN:VCALENDAR
VERSION:2.0
CALSCALE:GREGORIAN
PRODID:adamgibbons/ics
METHOD:PUBLISH
X-PUBLISHED-TTL:PT1H
BEGIN:VEVENT
UID:121@event.cologne
SUMMARY:Bodo Wartke & die SchönenGutenA-Band – In guter Begleitung
DTSTAMP:20260420T182359Z
DTSTART:20260902T160000Z
DTEND:20260902T160000Z
URL:https://event.cologne/event/bodo-wartke-and-die-schonengutena-band-in-g
	uter-begleitung
GEO:50.9459;6.97042
LOCATION:Tanzbrunnen - Rheinparkweg 1\, 50679 Köln
STATUS:CONFIRMED
CATEGORIES:
BEGIN:VALARM
ACTION:DISPLAY
DESCRIPTION:Bodo Wartke & die SchönenGutenA-Band – In guter Begleitung
TRIGGER:-PT1H
END:VALARM
END:VEVENT
END:VCALENDAR
