BEGIN:VCALENDAR
VERSION:2.0
CALSCALE:GREGORIAN
PRODID:adamgibbons/ics
METHOD:PUBLISH
X-PUBLISHED-TTL:PT1H
BEGIN:VEVENT
UID:37@event.cologne
SUMMARY:Bläck Fööss
DTSTAMP:20260420T181531Z
DTSTART:20260419T150000Z
DTEND:20260419T150000Z
DESCRIPTION:Bestuhlt
URL:https://event.cologne/event/black-fooss
GEO:50.9459;6.97042
LOCATION:Tanzbrunnen - Rheinparkweg 1\, 50679 Köln
STATUS:CONFIRMED
CATEGORIES:
X-ALT-DESC;FMTTYPE=text/html:<p>Bestuhlt</p>
BEGIN:VALARM
ACTION:DISPLAY
DESCRIPTION:Bläck Fööss
TRIGGER:-PT1H
END:VALARM
END:VEVENT
END:VCALENDAR
