BEGIN:VCALENDAR
VERSION:2.0
CALSCALE:GREGORIAN
PRODID:adamgibbons/ics
METHOD:PUBLISH
X-PUBLISHED-TTL:PT1H
BEGIN:VEVENT
UID:225@event.cologne
SUMMARY:Bilderbuchkreativzeit
DTSTAMP:20260420T181650Z
DTSTART:20260409T143000Z
DTEND:20260409T153000Z
DESCRIPTION:Nippes\, EintrittFrei\n\nLese- und Kreativzeit für Kinder ab 5 
	Jahren in der Stadtteilbibliothek Nippes.\n\n16:30 bis 17:30 Uhr\n\nDie Te
	ilnahme ist kostenlos.
URL:https://event.cologne/event/bilderbuchkreativzeit-1
GEO:50.9728;6.9516
LOCATION:Stadtteilbibliothek Nippes - Neusser Straße 450\, 50733 Köln
STATUS:CONFIRMED
CATEGORIES:EintrittFrei,Lesung,Nippes
X-ALT-DESC;FMTTYPE=text/html:<p><strong>Nippes, EintrittFrei</strong></p><p
	>Lese- und Kreativzeit für Kinder ab 5 Jahren in der Stadtteilbibliothek N
	ippes.</p><p>16:30 bis 17:30 Uhr</p><p>Die Teilnahme ist kostenlos.</p>
BEGIN:VALARM
ACTION:DISPLAY
DESCRIPTION:Bilderbuchkreativzeit
TRIGGER:-PT1H
END:VALARM
END:VEVENT
END:VCALENDAR
