BEGIN:VCALENDAR
VERSION:2.0
CALSCALE:GREGORIAN
PRODID:adamgibbons/ics
METHOD:PUBLISH
X-PUBLISHED-TTL:PT1H
BEGIN:VEVENT
UID:304@event.cologne
SUMMARY:Bernd Best Turnier – Rollstuhlrugby
DTSTAMP:20260420T182015Z
DTSTART:20260327T180000Z
DTEND:20260329T200000Z
DESCRIPTION:Mülheim\n\nInternational besetztes Bernd Best Turnier – Rollstu
	hlrugby. Über 20 Teams\nspielen in der Basic-\, Advanced- und Professional
	-League.\n\nDie Spielpläne entnehmen Sie bitte der Internetseite des Veran
	stalters.\n\nDer Eintritt ist frei.
URL:https://event.cologne/event/bernd-best-turnier-rollstuhlrugby
GEO:50.9615;7.03983
LOCATION:Gesamtschule Holweide - Burgwiesenstraße 125\, 51067 Köln
STATUS:CONFIRMED
CATEGORIES:Mülheim,Sport
X-ALT-DESC;FMTTYPE=text/html:<p><strong>Mülheim</strong></p><p>Internationa
	l besetztes Bernd Best Turnier – Rollstuhlrugby. Über 20 Teams spielen in 
	der Basic-, Advanced- und Professional-League.</p><p>Die Spielpläne entneh
	men Sie bitte der Internetseite des Veranstalters.</p><p>Der Eintritt ist 
	frei.</p>
BEGIN:VALARM
ACTION:DISPLAY
DESCRIPTION:Bernd Best Turnier – Rollstuhlrugby
TRIGGER:-PT1H
END:VALARM
END:VEVENT
END:VCALENDAR
