BEGIN:VCALENDAR
VERSION:2.0
CALSCALE:GREGORIAN
PRODID:adamgibbons/ics
METHOD:PUBLISH
X-PUBLISHED-TTL:PT1H
BEGIN:VEVENT
UID:51@event.cologne
SUMMARY:BeeFest – Festival 2026
DTSTAMP:20260420T181801Z
DTSTART:20260522T183000Z
DTEND:20260522T183000Z
DESCRIPTION:Abgesagt\nDie Veranstaltung wurde abgesagt - bitte wenden Sie s
	ich für weitere\nInformationen an den Veranstalter\, Bee Entertainment.\nT
	ickets können dort zurück gegeben werden\, wo sie gekauft wurden.
URL:https://event.cologne/event/beefest-festival-2026
GEO:50.9459;6.97042
LOCATION:Tanzbrunnen - Rheinparkweg 1\, 50679 Köln
STATUS:CONFIRMED
CATEGORIES:
X-ALT-DESC;FMTTYPE=text/html:<p>Abgesagt<br>Die Veranstaltung wurde abgesag
	t - bitte wenden Sie sich für weitere Informationen an den Veranstalter, B
	ee Entertainment.<br>Tickets können dort zurück gegeben werden, wo sie gek
	auft wurden.</p>
BEGIN:VALARM
ACTION:DISPLAY
DESCRIPTION:BeeFest – Festival 2026
TRIGGER:-PT1H
END:VALARM
END:VEVENT
END:VCALENDAR
