BEGIN:VCALENDAR
VERSION:2.0
CALSCALE:GREGORIAN
PRODID:adamgibbons/ics
METHOD:PUBLISH
X-PUBLISHED-TTL:PT1H
BEGIN:VEVENT
UID:270@event.cologne
SUMMARY:Bau dir den Frühling aus LEGO®!
DTSTAMP:20260420T181936Z
DTSTART:20260331T130000Z
DTEND:20260331T150000Z
DESCRIPTION:Innenstadt\, EintrittFrei\n\nEin Workshop mit den Baumeistern d
	er Modellbaufans Rheinland e. V. im Rahmen\nunseres Programms Maker Kids i
	n den Osterferien. Im Interim Zentralbibliothek.\n\n15 bis 17 Uhr\n\nDie T
	eilnahme ist kostenlos.
URL:https://event.cologne/event/bau-dir-den-fruhling-aus-legor
GEO:50.9371;6.95656
LOCATION:Interim Zentralbibliothek - Hohe Straße 68-82\, 50667 Köln
STATUS:CONFIRMED
CATEGORIES:EintrittFrei,Familie,Innenstadt
X-ALT-DESC;FMTTYPE=text/html:<p><strong>Innenstadt, EintrittFrei</strong></
	p><p>Ein Workshop mit den Baumeistern der Modellbaufans Rheinland e. V. im
	 Rahmen unseres Programms Maker Kids in den Osterferien. Im Interim Zentra
	lbibliothek.</p><p>15 bis 17 Uhr</p><p>Die Teilnahme ist kostenlos.</p>
BEGIN:VALARM
ACTION:DISPLAY
DESCRIPTION:Bau dir den Frühling aus LEGO®!
TRIGGER:-PT1H
END:VALARM
END:VEVENT
END:VCALENDAR
