BEGIN:VCALENDAR
VERSION:2.0
CALSCALE:GREGORIAN
PRODID:adamgibbons/ics
METHOD:PUBLISH
X-PUBLISHED-TTL:PT1H
BEGIN:VEVENT
UID:194@event.cologne
SUMMARY:Barbara Ruscher Romantik – aber zack\, zack – Kabarett
DTSTAMP:20260420T182343Z
DTSTART:20260424T170000Z
DTEND:20260424T200000Z
DESCRIPTION:Chorweiler\n\nComedy bekannt aus Funk und Fernsehen\n\nEinlass:
	 19 Uhr Beginn: 20 Uhr\n\nKölnticket: 27 Euro\; Abendkasse: 28 Euro
URL:https://event.cologne/event/barbara-ruscher-romantik-aber-zack-zack-kab
	arett
GEO:51.0224;6.8994
LOCATION:Bürgerzentrum Chorweiler - Pariser Platz 1\, 50765 Köln
STATUS:CONFIRMED
CATEGORIES:Chorweiler,Kabarett
X-ALT-DESC;FMTTYPE=text/html:<p><strong>Chorweiler</strong></p><p>Comedy be
	kannt aus Funk und Fernsehen</p><p><strong>Einlass:</strong> 19 Uhr <stron
	g>Beginn:</strong> 20 Uhr</p><p>Kölnticket: 27 Euro; Abendkasse: 28 Euro</
	p>
BEGIN:VALARM
ACTION:DISPLAY
DESCRIPTION:Barbara Ruscher Romantik – aber zack, zack – Kabarett
TRIGGER:-PT1H
END:VALARM
END:VEVENT
END:VCALENDAR
