BEGIN:VCALENDAR
VERSION:2.0
CALSCALE:GREGORIAN
PRODID:adamgibbons/ics
METHOD:PUBLISH
X-PUBLISHED-TTL:PT1H
BEGIN:VEVENT
UID:30@event.cologne
SUMMARY:Bagjan Oktyabr – mit neuem Programm Soul Therapy
DTSTAMP:20260420T181855Z
DTSTART:20260401T170000Z
DTEND:20260401T170000Z
DESCRIPTION:Bestuhlt
URL:https://event.cologne/event/bagjan-oktyabr-mit-neuem-programm-soul-ther
	apy
GEO:50.9459;6.97042
LOCATION:Tanzbrunnen - Rheinparkweg 1\, 50679 Köln
STATUS:CONFIRMED
CATEGORIES:
X-ALT-DESC;FMTTYPE=text/html:<p>Bestuhlt</p>
BEGIN:VALARM
ACTION:DISPLAY
DESCRIPTION:Bagjan Oktyabr – mit neuem Programm Soul Therapy
TRIGGER:-PT1H
END:VALARM
END:VEVENT
END:VCALENDAR
