BEGIN:VCALENDAR
VERSION:2.0
CALSCALE:GREGORIAN
PRODID:adamgibbons/ics
METHOD:PUBLISH
X-PUBLISHED-TTL:PT1H
BEGIN:VEVENT
UID:190@event.cologne
SUMMARY:Ausstellung Frühlingsgefühle von Zarifa Art
DTSTAMP:20260420T164209Z
DTSTART:20260307T180000Z
DTEND:20260422T200000Z
DESCRIPTION:Lindenthal\n\nDie internationale Kunstagentur Zarifa Art lädt S
	ie zur Ausstellung\nFrühlingsgefühle ein\n\nDienstag bis Sonntag\, 14 bis 
	18 Uhr Vernissage: 7. März 2026\, 18 Uhr\n\nDer Eintritt ist frei.
URL:https://event.cologne/event/ausstellung-fruhlingsgefuhle-von-zarifa-art
GEO:50.9372;6.91231
LOCATION:Kunsthalle Lindenthal - Aachener Straße 220\, 50931 Köln
STATUS:CONFIRMED
CATEGORIES:Ausstellung,Lindenthal
X-ALT-DESC;FMTTYPE=text/html:<p><strong>Lindenthal</strong></p><p>Die inter
	nationale Kunstagentur Zarifa Art lädt Sie zur Ausstellung Frühlingsgefühl
	e ein</p><p>Dienstag bis Sonntag, 14 bis 18 Uhr Vernissage: 7. März 2026, 
	18 Uhr</p><p>Der Eintritt ist frei.</p>
BEGIN:VALARM
ACTION:DISPLAY
DESCRIPTION:Ausstellung Frühlingsgefühle von Zarifa Art
TRIGGER:-PT1H
END:VALARM
END:VEVENT
END:VCALENDAR
