BEGIN:VCALENDAR
VERSION:2.0
CALSCALE:GREGORIAN
PRODID:adamgibbons/ics
METHOD:PUBLISH
X-PUBLISHED-TTL:PT1H
BEGIN:VEVENT
UID:294@event.cologne
SUMMARY:Ausgebucht! Königinnen der Gehölze und der Winterblüte - Magnolien 
	und Kamelien in der Flora
DTSTAMP:20260420T182355Z
DTSTART:20260322T100000Z
DTEND:20260322T210000Z
DESCRIPTION:Nippes\n\nFührung im Botanischen Garten\n\n11 Uhr\n\n7 Euro für
	 Erwachsene 4 Euro ermäßigt (Kinder\, Schüler*innen\, Studierende\,\nMitgl
	ieder des Freundeskreises\, Inhaber*innen von KölnPass\, einem\nBehinderte
	nausweis oder der Ehrenamtskarte NRW)
URL:https://event.cologne/event/ausgebucht-koniginnen-der-geholze-und-der-w
	interblute-magnolien-und-kamelien-in-der-flora
GEO:50.9592;6.97221
LOCATION:Flora und Botanischer Garten - Alter Stammheimer Weg (Haupteingang
	) \, 50735 Köln
STATUS:CONFIRMED
CATEGORIES:Führung,Nippes
X-ALT-DESC;FMTTYPE=text/html:<p><strong>Nippes</strong></p><p>Führung im Bo
	tanischen Garten</p><p>11 Uhr</p><p>7 Euro für Erwachsene 4 Euro ermäßigt 
	(Kinder, Schüler*innen, Studierende, Mitglieder des Freundeskreises, Inhab
	er*innen von KölnPass, einem Behindertenausweis oder der Ehrenamtskarte NR
	W)</p>
BEGIN:VALARM
ACTION:DISPLAY
DESCRIPTION:Ausgebucht! Königinnen der Gehölze und der Winterblüte - Magnol
	ien und Kamelien in der Flora
TRIGGER:-PT1H
END:VALARM
END:VEVENT
END:VCALENDAR
