BEGIN:VCALENDAR
VERSION:2.0
CALSCALE:GREGORIAN
PRODID:adamgibbons/ics
METHOD:PUBLISH
X-PUBLISHED-TTL:PT1H
BEGIN:VEVENT
UID:178@event.cologne
SUMMARY:Auf die Bühne\, fertig\, los!
DTSTAMP:20260420T182143Z
DTSTART:20260415T160000Z
DTEND:20260415T200000Z
DESCRIPTION:Innenstadt\n\nMitsingkonzert mit den Lucky Kids\, dem beliebten
	 Kinderchor der Rheinischen\nMusikschule\n\n18 Uhr\n\n25 Euro\, ermäßigt 1
	2\,50 Euro
URL:https://event.cologne/event/auf-die-buhne-fertig-los
GEO:50.9363;6.93686
LOCATION:Volksbühne am Rudolfplatz - Aachener Straße 5\, 50674 Köln
STATUS:CONFIRMED
CATEGORIES:Innenstadt,Konzert
X-ALT-DESC;FMTTYPE=text/html:<p><strong>Innenstadt</strong></p><p>Mitsingko
	nzert mit den Lucky Kids, dem beliebten Kinderchor der Rheinischen Musiksc
	hule</p><p>18 Uhr</p><p>25 Euro, ermäßigt 12,50 Euro</p>
BEGIN:VALARM
ACTION:DISPLAY
DESCRIPTION:Auf die Bühne, fertig, los!
TRIGGER:-PT1H
END:VALARM
END:VEVENT
END:VCALENDAR
