BEGIN:VCALENDAR
VERSION:2.0
CALSCALE:GREGORIAN
PRODID:adamgibbons/ics
METHOD:PUBLISH
X-PUBLISHED-TTL:PT1H
BEGIN:VEVENT
UID:153@event.cologne
SUMMARY:Auf den Spuren von Edith Stein in Köln-Lindenthal
DTSTAMP:20260420T182209Z
DTSTART:20260329T130000Z
DTEND:20260329T143000Z
DESCRIPTION:Lindenthal\n\nDieser Rundgang führt durch den Kölner Stadtteil 
	Lindenthal und ermöglicht an\nverschiedenen Stationen die Heilige Edith St
	ein näher kennen zu lernen.\n\n15 bis 16:30 Uhr\n\n12 Euro
URL:https://event.cologne/event/auf-den-spuren-von-edith-stein-in-koln-lind
	enthal
LOCATION:Kirche Christi Auferstehung - Brucknerstraße 16\, 50931 Köln
STATUS:CONFIRMED
CATEGORIES:Lindenthal,Wortveranstaltung
X-ALT-DESC;FMTTYPE=text/html:<p><strong>Lindenthal</strong></p><p>Dieser Ru
	ndgang führt durch den Kölner Stadtteil Lindenthal und ermöglicht an versc
	hiedenen Stationen die Heilige Edith Stein näher kennen zu lernen.</p><p>1
	5 bis 16:30 Uhr</p><p>12 Euro</p>
BEGIN:VALARM
ACTION:DISPLAY
DESCRIPTION:Auf den Spuren von Edith Stein in Köln-Lindenthal
TRIGGER:-PT1H
END:VALARM
END:VEVENT
END:VCALENDAR
