BEGIN:VCALENDAR
VERSION:2.0
CALSCALE:GREGORIAN
PRODID:adamgibbons/ics
METHOD:PUBLISH
X-PUBLISHED-TTL:PT1H
BEGIN:VEVENT
UID:137@event.cologne
SUMMARY:Antik- und Designmarkt
DTSTAMP:20260420T181657Z
DTSTART:20260920T090000Z
DTEND:20260920T090000Z
DESCRIPTION:Messen & Märkte\n\nEintritt: 5\,00 €\nUnbestuhlt
URL:https://event.cologne/event/antik-und-designmarkt-1
GEO:50.9602;6.97071
LOCATION:Flora - Am Botanischen Garten 1a\, 50735 Köln
STATUS:CONFIRMED
CATEGORIES:Messen & Märkte
X-ALT-DESC;FMTTYPE=text/html:<p><strong>Messen &amp; Märkte</strong></p><p>
	Eintritt: 5,00 €<br>Unbestuhlt</p>
BEGIN:VALARM
ACTION:DISPLAY
DESCRIPTION:Antik- und Designmarkt
TRIGGER:-PT1H
END:VALARM
END:VEVENT
END:VCALENDAR
