BEGIN:VCALENDAR
VERSION:2.0
CALSCALE:GREGORIAN
PRODID:adamgibbons/ics
METHOD:PUBLISH
X-PUBLISHED-TTL:PT1H
BEGIN:VEVENT
UID:48@event.cologne
SUMMARY:An Evening With Francis Rossi – Songbook Tour 2026
DTSTAMP:20260420T182405Z
DTSTART:20260515T173000Z
DTEND:20260515T173000Z
URL:https://event.cologne/event/an-evening-with-francis-rossi-songbook-tour
	-2026
GEO:50.9459;6.97042
LOCATION:Tanzbrunnen - Rheinparkweg 1\, 50679 Köln
STATUS:CONFIRMED
CATEGORIES:
BEGIN:VALARM
ACTION:DISPLAY
DESCRIPTION:An Evening With Francis Rossi – Songbook Tour 2026
TRIGGER:-PT1H
END:VALARM
END:VEVENT
END:VCALENDAR
