BEGIN:VCALENDAR
VERSION:2.0
CALSCALE:GREGORIAN
PRODID:adamgibbons/ics
METHOD:PUBLISH
X-PUBLISHED-TTL:PT1H
BEGIN:VEVENT
UID:57@event.cologne
SUMMARY:Amphi Festival 2026 – Offizielle Pre-Party
DTSTAMP:20260420T182400Z
DTSTART:20260724T190000Z
DTEND:20260724T190000Z
URL:https://event.cologne/event/amphi-festival-2026-offizielle-pre-party
GEO:50.9459;6.97042
LOCATION:Tanzbrunnen - Rheinparkweg 1\, 50679 Köln
STATUS:CONFIRMED
CATEGORIES:
BEGIN:VALARM
ACTION:DISPLAY
DESCRIPTION:Amphi Festival 2026 – Offizielle Pre-Party
TRIGGER:-PT1H
END:VALARM
END:VEVENT
END:VCALENDAR
