BEGIN:VCALENDAR
VERSION:2.0
CALSCALE:GREGORIAN
PRODID:adamgibbons/ics
METHOD:PUBLISH
X-PUBLISHED-TTL:PT1H
BEGIN:VEVENT
UID:86@event.cologne
SUMMARY:Alex Stoldt – Quasi Nichts
DTSTAMP:20260420T181901Z
DTSTART:20270219T180000Z
DTEND:20270219T180000Z
DESCRIPTION:Bestuhlt
URL:https://event.cologne/event/alex-stoldt-quasi-nichts
GEO:50.9459;6.97042
LOCATION:Tanzbrunnen - Rheinparkweg 1\, 50679 Köln
STATUS:CONFIRMED
CATEGORIES:
X-ALT-DESC;FMTTYPE=text/html:<p>Bestuhlt</p>
BEGIN:VALARM
ACTION:DISPLAY
DESCRIPTION:Alex Stoldt – Quasi Nichts
TRIGGER:-PT1H
END:VALARM
END:VEVENT
END:VCALENDAR
