BEGIN:VCALENDAR
VERSION:2.0
CALSCALE:GREGORIAN
PRODID:adamgibbons/ics
METHOD:PUBLISH
X-PUBLISHED-TTL:PT1H
BEGIN:VEVENT
UID:748@event.cologne
SUMMARY:Aktionstag Heizkeller der Zukunft
DTSTAMP:20260422T103139Z
DTSTART:20260509T170000Z
DTEND:20260509T180000Z
DESCRIPTION:Beim Aktionstag Heizkeller der Zukunft“ bekommen Immobilienbesi
	tzende praktische\nInformationen und Beratung rund um die Auswahl passende
	r klimafreundlicher\nHeizlösungen.\n\nvon 13 bis 20 Uhr\n\nDie Teilnahme i
	st kostenlos.
URL:https://event.cologne/event/aktionstag-heizkeller-der-zukunft
LOCATION:Innung Sanitär Heizung Klima Köln - Rolshover Straße 115\, 51105 K
	öln
STATUS:CONFIRMED
CATEGORIES:EintrittFrei,Kalk
X-ALT-DESC;FMTTYPE=text/html:<p>Beim Aktionstag Heizkeller der Zukunft“ bek
	ommen Immobilienbesitzende praktische Informationen und Beratung rund um d
	ie Auswahl passender klimafreundlicher Heizlösungen.</p><p>von 13 bis 20 U
	hr</p><p>Die Teilnahme ist kostenlos.</p>
BEGIN:VALARM
ACTION:DISPLAY
DESCRIPTION:Aktionstag Heizkeller der Zukunft
TRIGGER:-PT1H
END:VALARM
END:VEVENT
END:VCALENDAR
