BEGIN:VCALENDAR
VERSION:2.0
CALSCALE:GREGORIAN
PRODID:adamgibbons/ics
METHOD:PUBLISH
X-PUBLISHED-TTL:PT1H
BEGIN:VEVENT
UID:219@event.cologne
SUMMARY:Aktionstag Frühling
DTSTAMP:20260420T181655Z
DTSTART:20260331T100000Z
DTEND:20260331T160000Z
DESCRIPTION:Mülheim\, EintrittFrei\n\nFröhliches Frühlingsfest in der Stadt
	teilbibliothek Mülheim\n\n12 bis 18 Uhr\n\nDie Teilnahme ist kostenlos.
URL:https://event.cologne/event/aktionstag-fruhling
GEO:50.961;7.00412
LOCATION:Stadtteilbibliothek Mülheim - Wiener Platz 2a\, 51065 Köln
STATUS:CONFIRMED
CATEGORIES:EintrittFrei,Lesung,Mülheim
X-ALT-DESC;FMTTYPE=text/html:<p><strong>Mülheim, EintrittFrei</strong></p><
	p>Fröhliches Frühlingsfest in der Stadtteilbibliothek Mülheim</p><p>12 bis
	 18 Uhr</p><p>Die Teilnahme ist kostenlos.</p>
BEGIN:VALARM
ACTION:DISPLAY
DESCRIPTION:Aktionstag Frühling
TRIGGER:-PT1H
END:VALARM
END:VEVENT
END:VCALENDAR
