BEGIN:VCALENDAR
VERSION:2.0
CALSCALE:GREGORIAN
PRODID:adamgibbons/ics
METHOD:PUBLISH
X-PUBLISHED-TTL:PT1H
BEGIN:VEVENT
UID:150@event.cologne
SUMMARY:80 Jahre UNO – ein Auslaufmodell und nur eine Zwischenkriegszeit?
DTSTAMP:20260420T182402Z
DTSTART:20260322T160000Z
DTEND:20260322T180000Z
DESCRIPTION:Innenstadt\n\nIn seinem Vortrag gibt der taz-Journalist Andreas
	 Zumach Einblicke in die\nkomplexen Feinheiten der Weltpolitik anhand der 
	historischen und auch aktuellen\nLage der UNO.\n\n17 bis 19 Uhr\n\nDie Tei
	lnahme ist kostenlos
URL:https://event.cologne/event/80-jahre-uno-ein-auslaufmodell-und-nur-eine
	-zwischenkriegszeit
GEO:50.9349;6.95065
LOCATION:Kölner VHS-Forum im Museum am Neumarkt - Cäcilienstraße  29-33\, 5
	0667 Köln
STATUS:CONFIRMED
CATEGORIES:Innenstadt,Vortrag
X-ALT-DESC;FMTTYPE=text/html:<p><strong>Innenstadt</strong></p><p>In seinem
	 Vortrag gibt der taz-Journalist Andreas Zumach Einblicke in die komplexen
	 Feinheiten der Weltpolitik anhand der historischen und auch aktuellen Lag
	e der UNO.</p><p>17 bis 19 Uhr</p><p>Die Teilnahme ist kostenlos</p>
BEGIN:VALARM
ACTION:DISPLAY
DESCRIPTION:80 Jahre UNO – ein Auslaufmodell und nur eine Zwischenkriegszei
	t?
TRIGGER:-PT1H
END:VALARM
END:VEVENT
END:VCALENDAR
