BEGIN:VCALENDAR
VERSION:2.0
CALSCALE:GREGORIAN
PRODID:adamgibbons/ics
METHOD:PUBLISH
X-PUBLISHED-TTL:PT1H
BEGIN:VEVENT
UID:99@event.cologne
SUMMARY:5. Original Egerländer Festival 2026
DTSTAMP:20260420T182351Z
DTSTART:20260606T100000Z
DTEND:20260606T100000Z
URL:https://event.cologne/event/5-original-egerlander-festival-2026-1
GEO:50.9459;6.97042
LOCATION:Tanzbrunnen - Rheinparkweg 1\, 50679 Köln
STATUS:CONFIRMED
CATEGORIES:
BEGIN:VALARM
ACTION:DISPLAY
DESCRIPTION:5. Original Egerländer Festival 2026
TRIGGER:-PT1H
END:VALARM
END:VEVENT
END:VCALENDAR
