BEGIN:VCALENDAR
VERSION:2.0
CALSCALE:GREGORIAN
PRODID:adamgibbons/ics
METHOD:PUBLISH
X-PUBLISHED-TTL:PT1H
BEGIN:VEVENT
UID:193@event.cologne
SUMMARY:4. Aktionstag Senior*innen
DTSTAMP:20260420T181703Z
DTSTART:20260321T100000Z
DTEND:20260321T140000Z
DESCRIPTION:Mülheim\, EintrittFrei\n\nInfoveranstaltung für Senior*innen un
	d deren Angehörige zum Thema Sicherheit und\nvorbeugendes Verhalten im öff
	entlichen Raum oder zuhause.\n\n11 bis 15 Uhr\n\nEintritt frei
URL:https://event.cologne/event/4-aktionstag-seniorinnen
GEO:50.9784;7.08547
LOCATION:Straßenbahn-Museum Thielenbruch - Otto-Kayser-Straße 2c (Eingang: 
	Gemarkenstraße 173) \, 51069 Köln
STATUS:CONFIRMED
CATEGORIES:EintrittFrei,Mülheim,Museum
X-ALT-DESC;FMTTYPE=text/html:<p><strong>Mülheim, EintrittFrei</strong></p><
	p>Infoveranstaltung für Senior*innen und deren Angehörige zum Thema Sicher
	heit und vorbeugendes Verhalten im öffentlichen Raum oder zuhause.</p><p>1
	1 bis 15 Uhr</p><p>Eintritt frei</p>
BEGIN:VALARM
ACTION:DISPLAY
DESCRIPTION:4. Aktionstag Senior*innen
TRIGGER:-PT1H
END:VALARM
END:VEVENT
END:VCALENDAR
