BEGIN:VCALENDAR
VERSION:2.0
CALSCALE:GREGORIAN
PRODID:adamgibbons/ics
METHOD:PUBLISH
X-PUBLISHED-TTL:PT1H
BEGIN:VEVENT
UID:363@event.cologne
SUMMARY:3D-Druck am Samstag
DTSTAMP:20260420T181650Z
DTSTART:20260404T080000Z
DTEND:20260404T130000Z
DESCRIPTION:Innenstadt\n\nDrucken Sie Ihre mitgebrachten 3D-Dateien kostenl
	os aus – im Interim der\nZentralbibliothek.\n\n10 bis 15 Uhr\n\nDie Verans
	taltung ist kostenfrei.
URL:https://event.cologne/event/3d-druck-am-samstag
GEO:50.9371;6.95656
LOCATION:Interim Zentralbibliothek - Hohe Straße 68-82\, 50667 Köln
STATUS:CONFIRMED
CATEGORIES:Innenstadt
X-ALT-DESC;FMTTYPE=text/html:<p><strong>Innenstadt</strong></p><p>Drucken S
	ie Ihre mitgebrachten 3D-Dateien kostenlos aus – im Interim der Zentralbib
	liothek.</p><p>10 bis 15 Uhr</p><p>Die Veranstaltung ist kostenfrei.</p>
BEGIN:VALARM
ACTION:DISPLAY
DESCRIPTION:3D-Druck am Samstag
TRIGGER:-PT1H
END:VALARM
END:VEVENT
END:VCALENDAR
