BEGIN:VCALENDAR
VERSION:2.0
CALSCALE:GREGORIAN
PRODID:adamgibbons/ics
METHOD:PUBLISH
X-PUBLISHED-TTL:PT1H
BEGIN:VEVENT
UID:97@event.cologne
SUMMARY:23. ASV Köln Nachtlauf
DTSTAMP:20260420T181754Z
DTSTART:20260513T150000Z
DTEND:20260513T150000Z
URL:https://event.cologne/event/23-asv-koln-nachtlauf
GEO:50.9459;6.97042
LOCATION:Tanzbrunnen - Rheinparkweg 1\, 50679 Köln
STATUS:CONFIRMED
CATEGORIES:
BEGIN:VALARM
ACTION:DISPLAY
DESCRIPTION:23. ASV Köln Nachtlauf
TRIGGER:-PT1H
END:VALARM
END:VEVENT
END:VCALENDAR
