BEGIN:VCALENDAR
VERSION:2.0
CALSCALE:GREGORIAN
PRODID:adamgibbons/ics
METHOD:PUBLISH
X-PUBLISHED-TTL:PT1H
BEGIN:VEVENT
UID:50@event.cologne
SUMMARY:11FREUNDE Saisonrückblick 2026
DTSTAMP:20260420T181728Z
DTSTART:20260518T170000Z
DTEND:20260518T170000Z
URL:https://event.cologne/event/11freunde-saisonruckblick-2026
GEO:50.9459;6.97042
LOCATION:Tanzbrunnen - Rheinparkweg 1\, 50679 Köln
STATUS:CONFIRMED
CATEGORIES:
BEGIN:VALARM
ACTION:DISPLAY
DESCRIPTION:11FREUNDE Saisonrückblick 2026
TRIGGER:-PT1H
END:VALARM
END:VEVENT
END:VCALENDAR
