BEGIN:VCALENDAR
VERSION:2.0
CALSCALE:GREGORIAN
PRODID:adamgibbons/ics
METHOD:PUBLISH
X-PUBLISHED-TTL:PT1H
BEGIN:VEVENT
UID:779@event.cologne
SUMMARY:11. Kölner Fair Trade Night
DTSTAMP:20260424T191117Z
DTSTART:20260507T150000Z
DTEND:20260507T193000Z
DESCRIPTION:Erleben Sie die Vielfalt des Fairen Handels mit Ausstellermarkt
	\,\nPodiumsdiskussion und fairem Kneipenquiz!\n\n17 bis 21:30 Uhr\n\nDer E
	intritt ist frei.
URL:https://event.cologne/event/11-kolner-fair-trade-night
GEO:50.9349;6.95065
LOCATION:Kölner VHS-Forum im Museum am Neumarkt - Cäcilienstraße  29-33\, 5
	0667 Köln
STATUS:CONFIRMED
CATEGORIES:Innenstadt,Wortveranstaltung
X-ALT-DESC;FMTTYPE=text/html:<p>Erleben Sie die Vielfalt des Fairen Handels
	 mit Ausstellermarkt, Podiumsdiskussion und fairem Kneipenquiz!</p><p>17 b
	is 21:30 Uhr</p><p>Der Eintritt ist frei.</p>
BEGIN:VALARM
ACTION:DISPLAY
DESCRIPTION:11. Kölner Fair Trade Night
TRIGGER:-PT1H
END:VALARM
END:VEVENT
END:VCALENDAR
